BEGIN:VCALENDAR
VERSION:2.0
PRODID:-//Volunteerism - ECPv6.15.20//NONSGML v1.0//EN
CALSCALE:GREGORIAN
METHOD:PUBLISH
X-WR-CALNAME:Volunteerism
X-ORIGINAL-URL:https://volunteerism-cc.org.cy/en/
X-WR-CALDESC:Events for Volunteerism
REFRESH-INTERVAL;VALUE=DURATION:PT1H
X-Robots-Tag:noindex
X-PUBLISHED-TTL:PT1H
BEGIN:VTIMEZONE
TZID:Europe/Bucharest
BEGIN:DAYLIGHT
TZOFFSETFROM:+0200
TZOFFSETTO:+0300
TZNAME:EEST
DTSTART:20250330T010000
END:DAYLIGHT
BEGIN:STANDARD
TZOFFSETFROM:+0300
TZOFFSETTO:+0200
TZNAME:EET
DTSTART:20251026T010000
END:STANDARD
BEGIN:DAYLIGHT
TZOFFSETFROM:+0200
TZOFFSETTO:+0300
TZNAME:EEST
DTSTART:20260329T010000
END:DAYLIGHT
BEGIN:STANDARD
TZOFFSETFROM:+0300
TZOFFSETTO:+0200
TZNAME:EET
DTSTART:20261025T010000
END:STANDARD
BEGIN:DAYLIGHT
TZOFFSETFROM:+0200
TZOFFSETTO:+0300
TZNAME:EEST
DTSTART:20270328T010000
END:DAYLIGHT
BEGIN:STANDARD
TZOFFSETFROM:+0300
TZOFFSETTO:+0200
TZNAME:EET
DTSTART:20271031T010000
END:STANDARD
END:VTIMEZONE
BEGIN:VEVENT
DTSTART;TZID=Europe/Bucharest:20260604T160000
DTEND;TZID=Europe/Bucharest:20260604T190000
DTSTAMP:20260419T235443
CREATED:20260323T091545Z
LAST-MODIFIED:20260419T164550Z
UID:149296-1780588800-1780599600@volunteerism-cc.org.cy
SUMMARY:Ετήσια Γενική Συνέλευση Παγκύπριου Συντονιστικού Συμβουλίου Εθελοντισμού
DESCRIPTION:
URL:https://volunteerism-cc.org.cy/en/event/etisia-geniki-syneleysi-pagkyprioy-s/
LOCATION:Ολυμπιακό Μέγαρο\, Αίθουσα allwyn “Ευ Αγωνίζεσθαι
CATEGORIES:PVCC
END:VEVENT
BEGIN:VEVENT
DTSTART;VALUE=DATE:20260607
DTEND;VALUE=DATE:20260608
DTSTAMP:20260419T235443
CREATED:20260416T100041Z
LAST-MODIFIED:20260419T180054Z
UID:151580-1780790400-1780876799@volunteerism-cc.org.cy
SUMMARY:"Κολυμπώ για τον Συνάνθρωπο μου 2026"
DESCRIPTION:Διοργανωτής: ΣύΡεΚ
URL:https://volunteerism-cc.org.cy/en/event/kolympo-gia-ton-synanthropo-moy-2026/
LOCATION:Κολυμβητήριο Ιακώβου\, Λεμεσός
CATEGORIES:NGOs
END:VEVENT
END:VCALENDAR